BEGIN:VCALENDAR
VERSION:2.0
PRODID:-//hacksw/handcal//NONSGML v1.0//EN
BEGIN:VEVENT
DTSTAMP:20261018T173000Z
DTSTART:20261018T173000Z
DTEND:20261018T193000Z

SUMMARY:Hot Wheels Monster Trucks Live: Glow-N-Fire
DESCRIPTION:Hot Wheels Monster Trucks Live returns to the KFC Yum! Center with three epic performances on Saturday, October 17 and Sunday, October 18!The tour that lit up last year returns bigger and hotter than ever — with even more flames, more glow, and more high-octane action. Fans can expect the same edge-of-your-seat thrills they love, now supercharged with enhanced pyro effects, dazzling lighting, and jaw-dropping stunts!Get ready to cheer on your favorite Hot Wheels Monster Trucks — Mega Wrex™, Tiger Shark™, HW 5-Alarm™, Bone Shaker™, Bigfoot®, and Skelesaurus™ — plus the all-new Rhinomite™, making its live debut this season! That’s not all: the epic transforming robot is back to wow the crowd, and the Hot Wheels Monster Trucks Live Freestyle Motocross Team will once again deliver gravity-defying action.Go Big, Go Hot Wheels Pre-Show and VIP Experiences! More info can be found below.With special kids pricing available at every event, it’s the ultimate family experience you won’t want to miss. Tickets are on sale now at the KFC Yum! Center Box Office and on Ticketmaster. 
END:VEVENT
END:VCALENDAR