BEGIN:VCALENDAR
VERSION:2.0
PRODID:-//hacksw/handcal//NONSGML v1.0//EN
BEGIN:VEVENT
DTSTAMP:20260910T233000Z
DTSTART:20260910T233000Z
DTEND:20260911T023000Z

SUMMARY:Thomas Rhett - The Soundtrack to Life Tour 2026
DESCRIPTION:Diamond-certified superstar Thomas Rhett is set to bring his “must- watch” (OutKick) live show back to the road this summer with THE SOUNDTRACK TO LIFE TOUR. Promoted by Live Nation, the tour will launch in July, and stop in Louisville Kentucky  at the KFC Yum! Center on September 10 while delivering the “bombastic, good-time energy” (Esquire) that fans have come to expect from one of music’s most dynamic entertainers. Rising star Vincent Mason will join Thomas Rhett with Emily Ann Roberts kicking off each night of the tour.Tickets are on sale now at the KFC Yum! Center Box Office and on Ticketmaster. 
END:VEVENT
END:VCALENDAR